BEGIN:VCALENDAR
VERSION:2.0
PRODID:-//hacksw/handcal//NONSGML v1.0//EN
BEGIN:VEVENT
UID:18026
DTSTART;VALUE=DATE:20240524
URL;VALUE=URI:ohschonhell.at/?page_id=40030
SUMMARY:neoteric.org
LOCATION:Der Ponyhof
END:VEVENT
END:VCALENDAR


