BEGIN:VCALENDAR
VERSION:2.0
PRODID:-//hacksw/handcal//NONSGML v1.0//EN
BEGIN:VEVENT
UID:18029
DTSTART;VALUE=DATE:20240525
URL;VALUE=URI:ohschonhell.at/?page_id=40036
SUMMARY:Interessengemeinschaft Neue Heiterkeit
LOCATION:Der Ponyhof
END:VEVENT
END:VCALENDAR


