BEGIN:VCALENDAR
VERSION:2.0
PRODID:-//hacksw/handcal//NONSGML v1.0//EN
BEGIN:VEVENT
UID:18030
DTSTART;VALUE=DATE:20240525
URL;VALUE=URI:ohschonhell.at/?page_id=40038
SUMMARY:club fatale w. easyridler
LOCATION:SASS
END:VEVENT
END:VCALENDAR


