BEGIN:VCALENDAR
VERSION:2.0
PRODID:-//hacksw/handcal//NONSGML v1.0//EN
BEGIN:VEVENT
UID:18037
DTSTART;VALUE=DATE:20240529
URL;VALUE=URI:ohschonhell.at/?page_id=40052
SUMMARY:Trance it out
LOCATION:Der Ponyhof
END:VEVENT
END:VCALENDAR


