BEGIN:VCALENDAR
VERSION:2.0
PRODID:-//hacksw/handcal//NONSGML v1.0//EN
BEGIN:VEVENT
UID:18039
DTSTART;VALUE=DATE:20240531
URL;VALUE=URI:ohschonhell.at/?page_id=40056
SUMMARY:Beatdown
LOCATION:Der Ponyhof
END:VEVENT
END:VCALENDAR


