BEGIN:VCALENDAR
VERSION:2.0
PRODID:-//hacksw/handcal//NONSGML v1.0//EN
BEGIN:VEVENT
UID:18042
DTSTART;VALUE=DATE:20240613
URL;VALUE=URI:ohschonhell.at/?page_id=40062
SUMMARY:DONNERSTAG NACHT x GARTEN VON EBEN
LOCATION:SASS
END:VEVENT
END:VCALENDAR


