BEGIN:VCALENDAR
VERSION:2.0
PRODID:-//hacksw/handcal//NONSGML v1.0//EN
BEGIN:VEVENT
UID:18051
DTSTART;VALUE=DATE:20240601
URL;VALUE=URI:ohschonhell.at/?page_id=40082
SUMMARY:AFTERHOUR mit REE:RAW & MA!A
LOCATION:Black Market
END:VEVENT
END:VCALENDAR


