BEGIN:VCALENDAR
VERSION:2.0
PRODID:-//hacksw/handcal//NONSGML v1.0//EN
BEGIN:VEVENT
UID:18052
DTSTART;VALUE=DATE:20240601
URL;VALUE=URI:ohschonhell.at/?page_id=40085
SUMMARY:LNDN Mashup Opening - The finest in UK Garage & Jungle Music
LOCATION:Black Market
END:VEVENT
END:VCALENDAR


