BEGIN:VCALENDAR
VERSION:2.0
PRODID:-//hacksw/handcal//NONSGML v1.0//EN
BEGIN:VEVENT
UID:18055
DTSTART;VALUE=DATE:20240609
URL;VALUE=URI:ohschonhell.at/?page_id=40094
SUMMARY:AFTERHOUR mit FLASHPURE extended set
LOCATION:Black Market
END:VEVENT
END:VCALENDAR


