BEGIN:VCALENDAR
VERSION:2.0
PRODID:-//hacksw/handcal//NONSGML v1.0//EN
BEGIN:VEVENT
UID:18062
DTSTART;VALUE=DATE:20240604
URL;VALUE=URI:ohschonhell.at/?page_id=40109
SUMMARY:Back on Deck
LOCATION:Der Ponyhof
END:VEVENT
END:VCALENDAR


