BEGIN:VCALENDAR
VERSION:2.0
PRODID:-//hacksw/handcal//NONSGML v1.0//EN
BEGIN:VEVENT
UID:18071
DTSTART;VALUE=DATE:20240608
URL;VALUE=URI:ohschonhell.at/?page_id=40127
SUMMARY:HYPERTRASH presents BRAT PRIDE
LOCATION:Der Ponyhof
END:VEVENT
END:VCALENDAR


