BEGIN:VCALENDAR
VERSION:2.0
PRODID:-//hacksw/handcal//NONSGML v1.0//EN
BEGIN:VEVENT
UID:18086
DTSTART;VALUE=DATE:20240612
URL;VALUE=URI:ohschonhell.at/?page_id=40158
SUMMARY:Cheval fatale
LOCATION:Der Ponyhof
END:VEVENT
END:VCALENDAR


