BEGIN:VCALENDAR
VERSION:2.0
PRODID:-//hacksw/handcal//NONSGML v1.0//EN
BEGIN:VEVENT
UID:18087
DTSTART;VALUE=DATE:20240613
URL;VALUE=URI:ohschonhell.at/?page_id=40160
SUMMARY:Housefairboat
LOCATION:Der Ponyhof
END:VEVENT
END:VCALENDAR


