BEGIN:VCALENDAR
VERSION:2.0
PRODID:-//hacksw/handcal//NONSGML v1.0//EN
BEGIN:VEVENT
UID:18091
DTSTART;VALUE=DATE:20240615
URL;VALUE=URI:ohschonhell.at/?page_id=40168
SUMMARY:Steplica - Rhythm of Aid
LOCATION:Der Ponyhof
END:VEVENT
END:VCALENDAR


