BEGIN:VCALENDAR
VERSION:2.0
PRODID:-//hacksw/handcal//NONSGML v1.0//EN
BEGIN:VEVENT
UID:181
DTSTART;VALUE=DATE:20131122
URL;VALUE=URI:ohschonhell.at/?page_id=2650
SUMMARY:Morisson Hotel
LOCATION:MORISSON CLUB
END:VEVENT
END:VCALENDAR


