BEGIN:VCALENDAR
VERSION:2.0
PRODID:-//hacksw/handcal//NONSGML v1.0//EN
BEGIN:VEVENT
UID:18100
DTSTART;VALUE=DATE:20240620
URL;VALUE=URI:ohschonhell.at/?page_id=40186
SUMMARY:VANCOMYCIN
LOCATION:Der Ponyhof
END:VEVENT
END:VCALENDAR


