BEGIN:VCALENDAR
VERSION:2.0
PRODID:-//hacksw/handcal//NONSGML v1.0//EN
BEGIN:VEVENT
UID:18106
DTSTART;VALUE=DATE:20240615
URL;VALUE=URI:ohschonhell.at/?page_id=40201
SUMMARY:deep cut afterhour | Hypnotic & Deep Techno @ Black Market w/ pezel & urna()sonic
LOCATION:Black Market
END:VEVENT
END:VCALENDAR


