BEGIN:VCALENDAR
VERSION:2.0
PRODID:-//hacksw/handcal//NONSGML v1.0//EN
BEGIN:VEVENT
UID:18107
DTSTART;VALUE=DATE:20240616
URL;VALUE=URI:ohschonhell.at/?page_id=40204
SUMMARY:CLYDE NEWCOMER AFTERHOUR mit RIDGIE\, M41RH\, DCASCALLANA - SEASON CLOSING!
LOCATION:Black Market
END:VEVENT
END:VCALENDAR


