BEGIN:VCALENDAR
VERSION:2.0
PRODID:-//hacksw/handcal//NONSGML v1.0//EN
BEGIN:VEVENT
UID:18113
DTSTART;VALUE=DATE:20240621
URL;VALUE=URI:ohschonhell.at/?page_id=40216
SUMMARY:Wiener Mischung x Enzo
LOCATION:Enzo
END:VEVENT
END:VCALENDAR


