BEGIN:VCALENDAR
VERSION:2.0
PRODID:-//hacksw/handcal//NONSGML v1.0//EN
BEGIN:VEVENT
UID:18125
DTSTART;VALUE=DATE:20240620
URL;VALUE=URI:ohschonhell.at/?page_id=40241
SUMMARY:&#35\;dif2024 - Preparty x Donnerstag Nacht
LOCATION:SASS
END:VEVENT
END:VCALENDAR


