BEGIN:VCALENDAR
VERSION:2.0
PRODID:-//hacksw/handcal//NONSGML v1.0//EN
BEGIN:VEVENT
UID:18126
DTSTART;VALUE=DATE:20240621
URL;VALUE=URI:ohschonhell.at/?page_id=40244
SUMMARY:Drumworks presents M:FX & IAMDOOMED (DARKMTTR RECS)
LOCATION:Black Market
END:VEVENT
END:VCALENDAR


