BEGIN:VCALENDAR
VERSION:2.0
PRODID:-//hacksw/handcal//NONSGML v1.0//EN
BEGIN:VEVENT
UID:18127
DTSTART;VALUE=DATE:20240622
URL;VALUE=URI:ohschonhell.at/?page_id=40247
SUMMARY:EXTENDED AFTERHOUR mit DESTRO (Colombia) & KEVIN2WEI (Bday set) b2b SWIVER - BIS 14 UHR!
LOCATION:Black Market
END:VEVENT
END:VCALENDAR


