BEGIN:VCALENDAR
VERSION:2.0
PRODID:-//hacksw/handcal//NONSGML v1.0//EN
BEGIN:VEVENT
UID:18128
DTSTART;VALUE=DATE:20240623
URL;VALUE=URI:ohschonhell.at/?page_id=40250
SUMMARY:AFTERHOUR mit ALTROY JEROME & JOHANNES HAIDIN
LOCATION:Black Market
END:VEVENT
END:VCALENDAR


