BEGIN:VCALENDAR
VERSION:2.0
PRODID:-//hacksw/handcal//NONSGML v1.0//EN
BEGIN:VEVENT
UID:1814
DTSTART;VALUE=DATE:20140806
URL;VALUE=URI:ohschonhell.at/?page_id=4425
SUMMARY:Alles wird Gut. X Summer Love
LOCATION:CARGO
END:VEVENT
END:VCALENDAR


