BEGIN:VCALENDAR
VERSION:2.0
PRODID:-//hacksw/handcal//NONSGML v1.0//EN
BEGIN:VEVENT
UID:1815
DTSTART;VALUE=DATE:20140803
URL;VALUE=URI:ohschonhell.at/?page_id=4426
SUMMARY:&quot\;Sonntags Sind Wir Anders&quot\; presented by WCDL ♥ 03.08.14  ♥  In &amp\; Outdoor ♥ Free Entry ♥
LOCATION:MARX RESTAURATION
END:VEVENT
END:VCALENDAR


