BEGIN:VCALENDAR
VERSION:2.0
PRODID:-//hacksw/handcal//NONSGML v1.0//EN
BEGIN:VEVENT
UID:18162
DTSTART;VALUE=DATE:20240629
URL;VALUE=URI:ohschonhell.at/?page_id=40321
SUMMARY:Honigkuchenpferd. Vermittlung für Spaß & Gute Laune
LOCATION:Der Ponyhof
END:VEVENT
END:VCALENDAR


