BEGIN:VCALENDAR
VERSION:2.0
PRODID:-//hacksw/handcal//NONSGML v1.0//EN
BEGIN:VEVENT
UID:18166
DTSTART;VALUE=DATE:20240704
URL;VALUE=URI:ohschonhell.at/?page_id=40329
SUMMARY:AFTERWORKOUT
LOCATION:Der Ponyhof
END:VEVENT
END:VCALENDAR


