BEGIN:VCALENDAR
VERSION:2.0
PRODID:-//hacksw/handcal//NONSGML v1.0//EN
BEGIN:VEVENT
UID:18169
DTSTART;VALUE=DATE:20240712
URL;VALUE=URI:ohschonhell.at/?page_id=40335
SUMMARY:Drumworks presents Brain. (Dispatch Reca / Sofa Sound - Colombia)
LOCATION:Black Market
END:VEVENT
END:VCALENDAR


