BEGIN:VCALENDAR
VERSION:2.0
PRODID:-//hacksw/handcal//NONSGML v1.0//EN
BEGIN:VEVENT
UID:1819
DTSTART;VALUE=DATE:20140809
URL;VALUE=URI:ohschonhell.at/?page_id=4431
SUMMARY:Spirit of Psy - Open Air by Progressive Foundation
LOCATION:SUMMER STATION
END:VEVENT
END:VCALENDAR


