BEGIN:VCALENDAR
VERSION:2.0
PRODID:-//hacksw/handcal//NONSGML v1.0//EN
BEGIN:VEVENT
UID:18196
DTSTART;VALUE=DATE:20240707
URL;VALUE=URI:ohschonhell.at/?page_id=40391
SUMMARY:AFTERHOUR mit DISCOMASTER CONSOLE b2b JOHANNES HAIDIN
LOCATION:Black Market
END:VEVENT
END:VCALENDAR


