BEGIN:VCALENDAR
VERSION:2.0
PRODID:-//hacksw/handcal//NONSGML v1.0//EN
BEGIN:VEVENT
UID:18198
DTSTART;VALUE=DATE:20240714
URL;VALUE=URI:ohschonhell.at/?page_id=40395
SUMMARY:Summer Floor by Wiener Mischung
LOCATION:PORTO POLLO
END:VEVENT
END:VCALENDAR


