BEGIN:VCALENDAR
VERSION:2.0
PRODID:-//hacksw/handcal//NONSGML v1.0//EN
BEGIN:VEVENT
UID:18203
DTSTART;VALUE=DATE:20240713
URL;VALUE=URI:ohschonhell.at/?page_id=40406
SUMMARY:FUELIZED
LOCATION:Der Ponyhof
END:VEVENT
END:VCALENDAR


