BEGIN:VCALENDAR
VERSION:2.0
PRODID:-//hacksw/handcal//NONSGML v1.0//EN
BEGIN:VEVENT
UID:18211
DTSTART;VALUE=DATE:20240718
URL;VALUE=URI:ohschonhell.at/?page_id=40422
SUMMARY:Disskorienta Album Release Party
LOCATION:Der Ponyhof
END:VEVENT
END:VCALENDAR


