BEGIN:VCALENDAR
VERSION:2.0
PRODID:-//hacksw/handcal//NONSGML v1.0//EN
BEGIN:VEVENT
UID:18214
DTSTART;VALUE=DATE:20240803
URL;VALUE=URI:ohschonhell.at/?page_id=40428
SUMMARY:Ridin´High - A Luv Shack Records Labelnight w/ LeSale &amp\; Simonlebon
LOCATION:SASS
END:VEVENT
END:VCALENDAR


