BEGIN:VCALENDAR
VERSION:2.0
PRODID:-//hacksw/handcal//NONSGML v1.0//EN
BEGIN:VEVENT
UID:18222
DTSTART;VALUE=DATE:20240713
URL;VALUE=URI:ohschonhell.at/?page_id=40445
SUMMARY:Freeride Millenium x Gaze
LOCATION:SASS
END:VEVENT
END:VCALENDAR


