BEGIN:VCALENDAR
VERSION:2.0
PRODID:-//hacksw/handcal//NONSGML v1.0//EN
BEGIN:VEVENT
UID:18241
DTSTART;VALUE=DATE:20240718
URL;VALUE=URI:ohschonhell.at/?page_id=40487
SUMMARY:Good Vibes Afterwork
LOCATION:VIENNA CITY BEACH CLUB
END:VEVENT
END:VCALENDAR


