BEGIN:VCALENDAR
VERSION:2.0
PRODID:-//hacksw/handcal//NONSGML v1.0//EN
BEGIN:VEVENT
UID:18250
DTSTART;VALUE=DATE:20240720
URL;VALUE=URI:ohschonhell.at/?page_id=40505
SUMMARY:Fantastic 35
LOCATION:Black Market
END:VEVENT
END:VCALENDAR


