BEGIN:VCALENDAR
VERSION:2.0
PRODID:-//hacksw/handcal//NONSGML v1.0//EN
BEGIN:VEVENT
UID:18257
DTSTART;VALUE=DATE:20240719
URL;VALUE=URI:ohschonhell.at/?page_id=40520
SUMMARY:WOHNZiMMER (2.0) OPENING WEEKEND +++
LOCATION:Black Market
END:VEVENT
END:VCALENDAR


