BEGIN:VCALENDAR
VERSION:2.0
PRODID:-//hacksw/handcal//NONSGML v1.0//EN
BEGIN:VEVENT
UID:18261
DTSTART;VALUE=DATE:20240725
URL;VALUE=URI:ohschonhell.at/?page_id=40531
SUMMARY:Turntablista – Nighttime Beats
LOCATION:Der Ponyhof
END:VEVENT
END:VCALENDAR


