BEGIN:VCALENDAR
VERSION:2.0
PRODID:-//hacksw/handcal//NONSGML v1.0//EN
BEGIN:VEVENT
UID:18262
DTSTART;VALUE=DATE:20240725
URL;VALUE=URI:ohschonhell.at/?page_id=40533
SUMMARY:Donnerstag Nacht mit Spumante Records
LOCATION:SASS
END:VEVENT
END:VCALENDAR


