BEGIN:VCALENDAR
VERSION:2.0
PRODID:-//hacksw/handcal//NONSGML v1.0//EN
BEGIN:VEVENT
UID:18318
DTSTART;VALUE=DATE:20240804
URL;VALUE=URI:ohschonhell.at/?page_id=40649
SUMMARY:SUPERDRIVE* OPEN AIR / Porto Pollo
LOCATION:PORTO POLLO
END:VEVENT
END:VCALENDAR


