BEGIN:VCALENDAR
VERSION:2.0
PRODID:-//hacksw/handcal//NONSGML v1.0//EN
BEGIN:VEVENT
UID:18321
DTSTART;VALUE=DATE:20240809
URL;VALUE=URI:ohschonhell.at/?page_id=40655
SUMMARY:deep cut w/ PAUNA - raw\, deep\, hypnotic
LOCATION:FLUCC
END:VEVENT
END:VCALENDAR


