BEGIN:VCALENDAR
VERSION:2.0
PRODID:-//hacksw/handcal//NONSGML v1.0//EN
BEGIN:VEVENT
UID:18336
DTSTART;VALUE=DATE:20240808
URL;VALUE=URI:ohschonhell.at/?page_id=40686
SUMMARY:Donnerstag Nacht mit Donnerkanzel
LOCATION:SASS
END:VEVENT
END:VCALENDAR


