BEGIN:VCALENDAR
VERSION:2.0
PRODID:-//hacksw/handcal//NONSGML v1.0//EN
BEGIN:VEVENT
UID:1834
DTSTART;VALUE=DATE:20140814
URL;VALUE=URI:ohschonhell.at/?page_id=4449
SUMMARY:PORNTRASH - FINALE ZUGABE ft. &quot\;THE ORAL ACADEMY&quot\;
LOCATION:SÄULENHALLE
END:VEVENT
END:VCALENDAR


