BEGIN:VCALENDAR
VERSION:2.0
PRODID:-//hacksw/handcal//NONSGML v1.0//EN
BEGIN:VEVENT
UID:18342
DTSTART;VALUE=DATE:20240810
URL;VALUE=URI:ohschonhell.at/?page_id=40698
SUMMARY:Löwenzahn
LOCATION:Der Ponyhof
END:VEVENT
END:VCALENDAR


