BEGIN:VCALENDAR
VERSION:2.0
PRODID:-//hacksw/handcal//NONSGML v1.0//EN
BEGIN:VEVENT
UID:18345
DTSTART;VALUE=DATE:20240824
URL;VALUE=URI:ohschonhell.at/?page_id=40704
SUMMARY:SOLID LAUNCH PARTY
LOCATION:SASS
END:VEVENT
END:VCALENDAR


