BEGIN:VCALENDAR
VERSION:2.0
PRODID:-//hacksw/handcal//NONSGML v1.0//EN
BEGIN:VEVENT
UID:1836
DTSTART;VALUE=DATE:20140806
URL;VALUE=URI:ohschonhell.at/?page_id=4451
SUMMARY:ALBERT&amp\;TINA #4_BOLEK&amp\;LOLEK
LOCATION:ALBERTINA
END:VEVENT
END:VCALENDAR


