BEGIN:VCALENDAR
VERSION:2.0
PRODID:-//hacksw/handcal//NONSGML v1.0//EN
BEGIN:VEVENT
UID:18364
DTSTART;VALUE=DATE:20240817
URL;VALUE=URI:ohschonhell.at/?page_id=40742
SUMMARY:MERKWÜRDIG / OPEN AIR / RAVE / w Alex Pastor
LOCATION:PORTO POLLO
END:VEVENT
END:VCALENDAR


