BEGIN:VCALENDAR
VERSION:2.0
PRODID:-//hacksw/handcal//NONSGML v1.0//EN
BEGIN:VEVENT
UID:18366
DTSTART;VALUE=DATE:20240818
URL;VALUE=URI:ohschonhell.at/?page_id=40746
SUMMARY:SunSETechno in Vienna
LOCATION:PORTO POLLO
END:VEVENT
END:VCALENDAR


