BEGIN:VCALENDAR
VERSION:2.0
PRODID:-//hacksw/handcal//NONSGML v1.0//EN
BEGIN:VEVENT
UID:18377
DTSTART;VALUE=DATE:20240824
URL;VALUE=URI:ohschonhell.at/?page_id=40770
SUMMARY:Unlock the Fractal Vol. 2
LOCATION:Donauinsel
END:VEVENT
END:VCALENDAR


